BEGIN:VCALENDAR
VERSION:2.0
PRODID:-//WP EVENT Manager Ical//NONSGML Events//EN
CALSCALE:GREGORIAN
BEGIN:VTIMEZONE
TZID:Asia/Kolkata
BEGIN:STANDARD
DTSTART:19700101T000000
TZOFFSETFROM:+0530
TZOFFSETTO:+0530
END:STANDARD
END:VTIMEZONE
BEGIN:VEVENT
UID:69e5e45b83e5c@www.biss-akademie.nrw
DTSTAMP:20260420T083123Z
DTSTART;TZID=Asia/Kolkata:20220805T093000
DTEND;TZID=Asia/Kolkata:20220805T120000
LOCATION:Online
SUMMARY:Die DemeK-Literaturwoche Louis-Braille-Schule, Düren
DESCRIPTION:Das DemeK-Konzept in Verknüpfung mit Bilderbucharbeit und szenischem Spiel bietet die Möglichkeiten sprachlich-literarische Bildung auszuschöpfen.Im Rahmen einer schulischen Literaturwoche wird dies als Erlebnis für eine ganze Schule erfahrbar und eröffnet vielfältige Möglichkeiten zur Entwicklung in der didaktischen Praxis.In der Veranstaltung werden den Teilnehmenden die theoretischen Grundlagen und Planung sowie Durchführung einer Demek-Literaturwoche vermittelt. Durch aktive Mitarbeit lernen sie zudem die DemeK-Literaturwoche aus Sicht Ihrer Schülerinnen und Schüler kennen.
END:VEVENT
END:VCALENDAR