BEGIN:VCALENDAR
VERSION:2.0
PRODID:-//WP EVENT Manager Ical//NONSGML Events//EN
CALSCALE:GREGORIAN
BEGIN:VTIMEZONE
TZID:Asia/Kolkata
BEGIN:STANDARD
DTSTART:19700101T000000
TZOFFSETFROM:+0530
TZOFFSETTO:+0530
END:STANDARD
END:VTIMEZONE
BEGIN:VEVENT
UID:69e5e3fdd34a4@www.biss-akademie.nrw
DTSTAMP:20260420T082949Z
DTSTART;TZID=Asia/Kolkata:20220608T143000
DTEND;TZID=Asia/Kolkata:20220608T160000
LOCATION:Aplerbecker-Mark-Grundschule, Schwerter Straße 269, Dortmund-Aplerbeck Dortmund
SUMMARY:Der BookCreator im Deutschunterricht – Ideen, Beispiele und Potenziale der App
DESCRIPTION:In diesem Workshop erfahren die Teilnehmerinnen und Teilnehmer, wie die App &#8220;Book Creator&#8221; im Unterricht genutzt werden kann.Mit Hilfe der App können die Schülerinnen und Schüler eigene multimediale Bücher zu unterschiedlichen Themen erstellen. Dabei kann im Deutschunterricht die Erstellung der Bücher je nach Schwerpunktsetzung unterschiedliche Kompetenzen fördern, bspw. zu den Buchstaben, im Schreiben oder zum Erzählen. Der Book Creator bietet darüber hinaus auch die Möglichkeit, Ergebnisse zu anderen fachlichen Themen oder Referate digital darzustellen.  Durch den hohen Aufforderungscharakter, die sehr intuitive Bedienbarkeit und die vielfältigen Möglichkeiten des Formats setzen sich die Schülerinnen und Schüler mit hoher Motivation mit den Themen auseinander und eignen sich dabei vielfältige Präsentationsfähigkeiten an. In der digitalen Form des Workshops wird der Nutzen des Book Creators für den eigenen Unterricht vorgestellt. Es werden einzelne Schülerprodukte aus unterschiedlichen Jahrgangsstufen und die Funktionsweise des Book Creators gezeigt. Die Beispiele stammen aus dem Primarbereich und können auf die Sekundarstufe übertragen werden.In der Präsenzform haben die Teilnehmenden zusätzlich die Möglichkeit, die App eigenständig auszuprobieren und ein eigenes Medienprodukt zu erstellen. Dazu wäre es sinnvoll, wenn jede Teilnehmerin und jeder Teilnehmer ein Tablet mitbringen würde und ggfs. die App schon vorab installieren würde. Im Einzelfall kann auch ein Tablet gestellt werden.
END:VEVENT
END:VCALENDAR