BEGIN:VCALENDAR
VERSION:2.0
PRODID:-//WP EVENT Manager Ical//NONSGML Events//EN
CALSCALE:GREGORIAN
BEGIN:VTIMEZONE
TZID:Asia/Kolkata
BEGIN:STANDARD
DTSTART:19700101T000000
TZOFFSETFROM:+0530
TZOFFSETTO:+0530
END:STANDARD
END:VTIMEZONE
BEGIN:VEVENT
UID:69e5f3abf2018@www.biss-akademie.nrw
DTSTAMP:20260420T093643Z
DTSTART;TZID=Asia/Kolkata:20220112T130000
DTEND;TZID=Asia/Kolkata:20220112T143000
LOCATION:Angabe folgt
SUMMARY:DemeK („Deutschlernen in mehrsprachigen Klassen“): Einführung in die Sprachrunden
DESCRIPTION:Nach einem Erfahrungsaustausch zum Thema Artikelsensibilisierung widmet sich dieses Unterstützungsangebot der Mündlichkeit, denn über diese werden Strukturen gelernt, die ebenfalls für die Schriftlichkeit maßgeblich sind. Die Teilnehmenden lernen, wie Sprachrunden (Chunks, Sprachlern- und Meinungsrunden) effektiv vorbereitet und geübt werden.&nbsp;&nbsp;
END:VEVENT
END:VCALENDAR