BEGIN:VCALENDAR
VERSION:2.0
PRODID:-//WP EVENT Manager Ical//NONSGML Events//EN
CALSCALE:GREGORIAN
BEGIN:VTIMEZONE
TZID:Asia/Kolkata
BEGIN:STANDARD
DTSTART:19700101T000000
TZOFFSETFROM:+0530
TZOFFSETTO:+0530
END:STANDARD
END:VTIMEZONE
BEGIN:VEVENT
UID:69e8baa1441c1@www.biss-akademie.nrw
DTSTAMP:20260422T121009Z
DTSTART;TZID=Asia/Kolkata:20211117T100712
DTEND;TZID=Asia/Kolkata:20211117T100712
LOCATION:Online
SUMMARY:DemeK („Deutschlernen in mehrsprachigen Klassen“): Einführung in die Artikelsensibilisierung
DESCRIPTION:Den ersten Stolpersteinen beim Erlernen der deutschen Sprache begegnet man bei der Verwendung von Artikeln und deren Deklination. Über einen kurzen theoretischen Input und eine sehr praxisbezogene Darstellung lernen die Teilnehmenden den Umgang mit den Artikelplakaten, der Artikelkennzeichnung und den Übungsmöglichkeiten im Rahmen von DemeK („Deutschlernen in mehrsprachigen Klassen“) kennen.Die Zeit der Veranstaltung wird spezifiziert.&nbsp;
END:VEVENT
END:VCALENDAR