BEGIN:VCALENDAR
VERSION:2.0
PRODID:-//WP EVENT Manager Ical//NONSGML Events//EN
CALSCALE:GREGORIAN
BEGIN:VTIMEZONE
TZID:Asia/Kolkata
BEGIN:STANDARD
DTSTART:19700101T000000
TZOFFSETFROM:+0530
TZOFFSETTO:+0530
END:STANDARD
END:VTIMEZONE
BEGIN:VEVENT
UID:69e8a3fab6f7b@www.biss-akademie.nrw
DTSTAMP:20260422T103330Z
DTSTART;TZID=Asia/Kolkata:20220209T130000
DTEND;TZID=Asia/Kolkata:20220209T143000
LOCATION:Angabe folgt
SUMMARY:DemeK („Deutschlernen in mehrsprachigen Klassen“): Einführung in das Generative Schreiben
DESCRIPTION:Nach einem Erfahrungsaustausch zum Thema Sprachrunden steht in diesem Unterstützungsangebot das schriftliche Üben von grammatischen, semantischen und bildungssprachlichen Strukturen im Vordergrund. Die Teilnehmenden lernen, mithilfe von Gedichten, Liedern, Zungenbrechern oder Reimen die Schülerinnen und Schüler über den gelenkten Austausch und das anschließende Erarbeiten und Einbringen individueller Inhalte anzuregen, eigene Texte zu produzieren.&nbsp;
END:VEVENT
END:VCALENDAR