BEGIN:VCALENDAR
VERSION:2.0
PRODID:-//WP EVENT Manager Ical//NONSGML Events//EN
CALSCALE:GREGORIAN
BEGIN:VTIMEZONE
TZID:Asia/Kolkata
BEGIN:STANDARD
DTSTART:19700101T000000
TZOFFSETFROM:+0530
TZOFFSETTO:+0530
END:STANDARD
END:VTIMEZONE
BEGIN:VEVENT
UID:69e5e3f94baa0@www.biss-akademie.nrw
DTSTAMP:20260420T082945Z
DTSTART;TZID=Asia/Kolkata:20220929T133000
DTEND;TZID=Asia/Kolkata:20220929T153000
LOCATION:Online
SUMMARY:DaZ-Unterricht in der Grundschule: Schnupperworkshop zu Schrittweise Deutsch
DESCRIPTION:DaZ-Unterricht in der Grundschule, gerade mit neu zugewanderten Kindern, stellt Lehrkräfte vor vielfältige Herausforderungen: heterogene Lerngruppen mit hoher Fluktuation, Kommunikationsprobleme im Unterricht durch wechselseitiges Nicht-Verstehen; noch nicht (lateinisch) alphabetisierte Kinder, die man kaum selbstständig arbeiten lassen kann.Hier kann Schrittweise Deutsch helfen. Der kostenlose digitale Schnupperworkshop stellt dieses wissenschaftlich fundierte und gleichzeitig praxisorientierte Materialpaket vor und erläutert dessen Besonderheiten (unterrichtsbegleitende Diagnostik des Sprachstands, Fördermaterialien auf sechs Kompetenzstufen, systematische Visualisierung des Wortschatzes und grammatischer Strukturen sowie integrierter Audiostift mit Aufnahmefunktion).Hinweis: Diese Veranstaltung ist bereits ausgebucht.Bitte beachten Sie, dass diese Veranstaltung neu auch am 19.10.22, 14-16 Uhr und 20.10.22 14-16 Uhr angeboten wird. 
END:VEVENT
END:VCALENDAR