BEGIN:VCALENDAR
VERSION:2.0
PRODID:-//WP EVENT Manager Ical//NONSGML Events//EN
CALSCALE:GREGORIAN
BEGIN:VTIMEZONE
TZID:Asia/Kolkata
BEGIN:STANDARD
DTSTART:19700101T000000
TZOFFSETFROM:+0530
TZOFFSETTO:+0530
END:STANDARD
END:VTIMEZONE
BEGIN:VEVENT
UID:69e5e3a8ed269@www.biss-akademie.nrw
DTSTAMP:20260420T082824Z
DTSTART;TZID=Asia/Kolkata:20220524T090000
DTEND;TZID=Asia/Kolkata:20220524T120000
LOCATION:Sekundarschule Königsbrügge, Fritz-Reuter-Straße, Bielefeld
SUMMARY:Das Planungsinstrument des Projekts „Sprachsensible Schulentwicklung“
DESCRIPTION:3. Netzwerktreffen des Netzwerks 11.1Zusammen mit ihren Projektkolleginnen entwickelte Stefanie Schultz Das Planungsinstrument des Projekts „Sprachsensible Schulentwicklung“, ein Werkzeug zur sprachsensiblen Schulentwicklung (Bestandsaufnahme &amp; Maßnahmenplan mit begleitenden Bild-Text-Karten).Dieses Planungstool ist eine Ergänzung zur im Buch Das Projekt „Sprachsensible Schulentwicklung“ enthaltenen Werkstatt, die Interessierten am Beispiel der 33 Projektschulen unterschiedliche Wege zur sprachsensiblen Schulentwicklung aufzeigt.Im Rahmen des Workshops erhalten die Teilnehmenden nach einer Vorstellung des Tools (Das Planungsinstrument des Projekts „Sprachsensible Schulentwicklung“ und die Digitale Ergänzung) die Möglichkeit, an konkreten Praxisbeispielen das Planungsinstrument zu erproben.
END:VEVENT
END:VCALENDAR