BEGIN:VCALENDAR
VERSION:2.0
PRODID:-//WP EVENT Manager Ical//NONSGML Events//EN
CALSCALE:GREGORIAN
BEGIN:VTIMEZONE
TZID:Asia/Kolkata
BEGIN:STANDARD
DTSTART:19700101T000000
TZOFFSETFROM:+0530
TZOFFSETTO:+0530
END:STANDARD
END:VTIMEZONE
BEGIN:VEVENT
UID:69e614c018f7f@www.biss-akademie.nrw
DTSTAMP:20260420T115752Z
DTSTART;TZID=Asia/Kolkata:20250709T110000
DTEND;TZID=Asia/Kolkata:20250709T140000
LOCATION:Maria-Sibylla-Merian-Gesamtschule, Lohackerstraße 15, 44867 Bochum, Wattenscheid
SUMMARY:Bridging the Gap: Die Schnittstelle von der Primar- in die Sekundarstufe in Mathe neu gestalten
DESCRIPTION:Wir beschäftigen uns mit der Fokussierung auf die typischen Stolperstellen des Verstehens von Mathematikinhalten in Klasse 5, die die absolute Grundlage für ein Verständnis der mathematischen Inhalte in der Sekundarstufe bilden.Neben der praxisnahen Frage: „Wie kann der Start ins neue Schuljahr konkret aussehen? Wie können wir zuerst die Basiskompetenzen der Grundschule zielgenau diagnostizieren und nachschärfen, damit wir die Sek 1 Kompetenzen dann darauf aufbauen können? Wie lange dauert das?“, werden wir uns auf den Weg machen Stellenwerte, halbschriftliche Rechenverfahren und Holz-Anschauungsmaterial (Dienes-Material) als Rettungsanker für Lernenden im Strudel der Sek 1- Mathematik schätzen zu lernen.Fokussierte Verstehensgrundlagen würden wir gerne vorstellen, mit Euch/Ihnen erarbeiten und gemeinsam überlegen, wie wir die fachlichen Anforderungen an den Unterricht mit denen des Systems übereinbringen könnten.
END:VEVENT
END:VCALENDAR