BEGIN:VCALENDAR
VERSION:2.0
PRODID:-//WP EVENT Manager Ical//NONSGML Events//EN
CALSCALE:GREGORIAN
BEGIN:VTIMEZONE
TZID:Asia/Kolkata
BEGIN:STANDARD
DTSTART:19700101T000000
TZOFFSETFROM:+0530
TZOFFSETTO:+0530
END:STANDARD
END:VTIMEZONE
BEGIN:VEVENT
UID:69e60eaa47a84@www.biss-akademie.nrw
DTSTAMP:20260420T113154Z
DTSTART;TZID=Asia/Kolkata:20241218T140000
DTEND;TZID=Asia/Kolkata:20241218T160000
LOCATION:Online
SUMMARY:Blended-Learning-Schnupperangebot zur Alphabetisierung
DESCRIPTION:Die Beschulung von neu zugewanderten Schülerinnen und Schülern bringt es mit sich, dass in allen Schulstufen potenziell auch das deutsche Schriftsystem vermittelt werden muss.Seit November 2024 steht ein neuer BiSS-Blended-Learning-Baustein &#8220;(Zweit-)Schriftvermittlung&#8221; zur Verfügung, der in die Grundlagen der Schriftvermittlung einführt und Lehrkräfte darin unterstützt, in den oft stark heterogenen Lerngruppen gute Förderentscheidungen für die jeweils individuellen Bedarfe zu treffen.Dieses Schnupperangebot bietet interessierten Lehrkräften die Möglichkeit, einen Ausschnitt aus diesem neuen Blended-Learning-Angebot kennenzulernen. Bestandteile des Schnupperangebots sind:Einführung in Aspekte des Unterrichts mit Neuzugewanderten und in die Benutzung der Kursplattform (online) am 18.12.2024Zugriff auf die erste Einheit des Blended-Learning-Bausteins bis zum 29.01.2025Abschluss-Sprechstunde (online) für die Teilnehmenden (Möglichkeiten der Fortsetzung)(Anmeldefrist: 15.12.2024)
END:VEVENT
END:VCALENDAR