BEGIN:VCALENDAR
VERSION:2.0
PRODID:-//WP EVENT Manager Ical//NONSGML Events//EN
CALSCALE:GREGORIAN
BEGIN:VTIMEZONE
TZID:Asia/Kolkata
BEGIN:STANDARD
DTSTART:19700101T000000
TZOFFSETFROM:+0530
TZOFFSETTO:+0530
END:STANDARD
END:VTIMEZONE
BEGIN:VEVENT
UID:69e63193adfc5@www.biss-akademie.nrw
DTSTAMP:20260420T140051Z
DTSTART;TZID=Asia/Kolkata:20251008T140000
DTEND;TZID=Asia/Kolkata:20251008T153000
LOCATION:Online
SUMMARY:Blended Learning Kurs “Tandemlesen“ – erstes Zwischentreffen
DESCRIPTION:Im Rahmen des Onlinetreffens haben Lehrkräfte die Möglichkeit Fragen zum laufenden Blended-Learning-Kurs „Tandemlesen&#8221; zu stellen. Inhaltlich beschäftigen wir uns besonders mit der Diagnostik (Lautleseprotokolle) und der Vorgehensweise bei der Zusammensetzung der Tandems.
END:VEVENT
END:VCALENDAR