BEGIN:VCALENDAR
VERSION:2.0
PRODID:-//WP EVENT Manager Ical//NONSGML Events//EN
CALSCALE:GREGORIAN
BEGIN:VTIMEZONE
TZID:Asia/Kolkata
BEGIN:STANDARD
DTSTART:19700101T000000
TZOFFSETFROM:+0530
TZOFFSETTO:+0530
END:STANDARD
END:VTIMEZONE
BEGIN:VEVENT
UID:69eb5065e057b@www.biss-akademie.nrw
DTSTAMP:20260424T111341Z
DTSTART;TZID=Asia/Kolkata:20251126T140000
DTEND;TZID=Asia/Kolkata:20251126T153000
LOCATION:Online
SUMMARY:Blended Learning Kurs 3- erstes Zwischentreffen
DESCRIPTION:Im Rahmen des Onlinetreffens sprechen wir über die Inhalte des laufenden Blended Learning Kurses „Lesestrategien“, die Möglichkeiten und Umsetzung der Diagnostik und über erste Erprobungen im Unterricht.Außerdem haben Lehrkräfte die Möglichkeiten Fragen rund um den Kurs, Organisation und die Termine zu klären.&nbsp;
END:VEVENT
END:VCALENDAR