BEGIN:VCALENDAR
VERSION:2.0
PRODID:-//WP EVENT Manager Ical//NONSGML Events//EN
CALSCALE:GREGORIAN
BEGIN:VTIMEZONE
TZID:Asia/Kolkata
BEGIN:STANDARD
DTSTART:19700101T000000
TZOFFSETFROM:+0530
TZOFFSETTO:+0530
END:STANDARD
END:VTIMEZONE
BEGIN:VEVENT
UID:69eb98f6bdf7b@www.biss-akademie.nrw
DTSTAMP:20260424T162318Z
DTSTART;TZID=Asia/Kolkata:20251001T140000
DTEND;TZID=Asia/Kolkata:20251001T153000
LOCATION:Online
SUMMARY:Blended Learning Kurs 2 „Lesestrategien“ – zweites Zwischentreffen
DESCRIPTION:Im Rahmen des Onlinetreffens sprechen wir über die Inhalte des laufenden Blended- Learning-Kurses „Lesestrategien“, die Umsetzung erster Erprobungen im Unterricht, Vorbereitung und Einführung der InhalteAußerdem haben Lehrkräfte die Möglichkeiten Fragen rund um den Kurs zu stellen.&nbsp;
END:VEVENT
END:VCALENDAR