BEGIN:VCALENDAR
VERSION:2.0
PRODID:-//WP EVENT Manager Ical//NONSGML Events//EN
CALSCALE:GREGORIAN
BEGIN:VTIMEZONE
TZID:Asia/Kolkata
BEGIN:STANDARD
DTSTART:19700101T000000
TZOFFSETFROM:+0530
TZOFFSETTO:+0530
END:STANDARD
END:VTIMEZONE
BEGIN:VEVENT
UID:69e8efcd65892@www.biss-akademie.nrw
DTSTAMP:20260422T155701Z
DTSTART;TZID=Asia/Kolkata:20231018T093000
DTEND;TZID=Asia/Kolkata:20231018T153000
LOCATION:Technische Universität Dortmund Fakultät für Mathematik, Vogelpothsweg, Dortmund, Mathetower
SUMMARY:BiSS meets die TU Dortmund, Netzwerktreffen 7.1, 7.2
DESCRIPTION:Wir werden die neusten Projekte unseres Netzwerks und der Mathe-Fachdidaktik der TU Dortmund vorstellen und einen Workshop zu Verstehensgrundlagen aus der Grundschule anbieten, ohne die ein Unterrichten in der Sek. I extrem schwierig ist. Fest im Blick haben wir dabei die Durchgängigkeit der Verstehensgrundlagen in der Primarstufe bis hin zur Sek. II.
END:VEVENT
END:VCALENDAR