BEGIN:VCALENDAR
VERSION:2.0
PRODID:-//WP EVENT Manager Ical//NONSGML Events//EN
CALSCALE:GREGORIAN
BEGIN:VTIMEZONE
TZID:Asia/Kolkata
BEGIN:STANDARD
DTSTART:19700101T000000
TZOFFSETFROM:+0530
TZOFFSETTO:+0530
END:STANDARD
END:VTIMEZONE
BEGIN:VEVENT
UID:69e5fb669e50e@www.biss-akademie.nrw
DTSTAMP:20260420T100942Z
DTSTART;TZID=Asia/Kolkata:20220530T150000
DTEND;TZID=Asia/Kolkata:20220530T180000
LOCATION:Online
SUMMARY:Austauschtreffen zum Blended-Learning-Kurs der Netzwerke 1.1 und 2.1
DESCRIPTION:Letztes Informations- und Austauschtreffen zum Blended-Learning-Kurs der Netzwerke 1.1 und 2.1 („Sprache im Fachunterricht II“) – Schwerpunktthema „Scaffolding“ (Kursbaustein E)&nbsp;Die Veranstaltung richtet sich an Teilnehmerinnen und Teilnehmer des ersten und zweiten Durchlaufs des Blended-Learning-Kurses.
END:VEVENT
END:VCALENDAR