BEGIN:VCALENDAR
VERSION:2.0
PRODID:-//WP EVENT Manager Ical//NONSGML Events//EN
CALSCALE:GREGORIAN
BEGIN:VTIMEZONE
TZID:Asia/Kolkata
BEGIN:STANDARD
DTSTART:19700101T000000
TZOFFSETFROM:+0530
TZOFFSETTO:+0530
END:STANDARD
END:VTIMEZONE
BEGIN:VEVENT
UID:69e889ce651a5@www.biss-akademie.nrw
DTSTAMP:20260422T084150Z
DTSTART;TZID=Asia/Kolkata:20220512T153000
DTEND;TZID=Asia/Kolkata:20220512T170000
LOCATION:Online
SUMMARY:Austauschtreffen Netzwerk 5.1 für die Schulstufen 1 und 2
DESCRIPTION:Im Rahmen des Netzwerktreffens tauschen sich die Lehrkräfte über ihre Erfahrungen mit der Einführung des Lesetandems in den Klassen 1 und 2 aus.Es gibt die Möglichkeit zur Beratung durch eine Impulslehrkraft.
END:VEVENT
END:VCALENDAR