BEGIN:VCALENDAR
VERSION:2.0
PRODID:-//WP EVENT Manager Ical//NONSGML Events//EN
CALSCALE:GREGORIAN
BEGIN:VTIMEZONE
TZID:Asia/Kolkata
BEGIN:STANDARD
DTSTART:19700101T000000
TZOFFSETFROM:+0530
TZOFFSETTO:+0530
END:STANDARD
END:VTIMEZONE
BEGIN:VEVENT
UID:69e5e3eeb673c@www.biss-akademie.nrw
DTSTAMP:20260420T082934Z
DTSTART;TZID=Asia/Kolkata:20220831T150000
DTEND;TZID=Asia/Kolkata:20220831T163000
LOCATION:Aplerbecker-Mark-Grundschule, Schwerter Straße 269, Dortmund-Aplerbeck Dortmund
SUMMARY:App geht´s – Tablets zur Förderung der Lesefähigkeit
DESCRIPTION:In diesem Workshop erfahren die Teilnehmerinnen und Teilnehmer, warum es sinnvoll ist, Lernapps in den Deutschunterricht zu integrieren. Der Workshop bietet einen Einblick in ausgewählte Appangebote, die vor allem in den Bereich der Leseförderung eingeordnet werden können. Dabei werden sowohl Apps zur Leseflüssigkeit als auch zum Leseverständnis in den Blick genommen und es werden Ideen zum Einsatz in unterschiedlichen Jahrgangsstufen und auch zur Unterrichtsorganisation vorgestellt. In der Präsenzform können einzelne Apps ausprobiert und Vor- und Nachteile der Apps herausgestellt werden. Dazu wäre es sinnvoll, wenn jede Teilnehmerin und jeder Teilnehmer ein Tablet mitbringen würde, damit ggf. (auch kostenpflichtige) Apps heruntergeladen werden können.
END:VEVENT
END:VCALENDAR