BEGIN:VCALENDAR
VERSION:2.0
PRODID:-//WP EVENT Manager Ical//NONSGML Events//EN
CALSCALE:GREGORIAN
BEGIN:VTIMEZONE
TZID:Asia/Kolkata
BEGIN:STANDARD
DTSTART:19700101T000000
TZOFFSETFROM:+0530
TZOFFSETTO:+0530
END:STANDARD
END:VTIMEZONE
BEGIN:VEVENT
UID:69e91259c9539@www.biss-akademie.nrw
DTSTAMP:20260422T182425Z
DTSTART;TZID=Asia/Kolkata:20231113T120000
DTEND;TZID=Asia/Kolkata:20231113T160000
LOCATION:Landesstelle Schulische Integration, Ruhrallee 1-3, Dortmund, Raum 448
SUMMARY:Impulsschul-Fachtag „Didaktik der Sprachenvielfalt“
DESCRIPTION:Der Impulsschul-Fachtag ist mit drei Zielen geplant:Informationen zu den geplanten Entwicklungsschritten der BiSS-Akademie NRWWeiterarbeit an praktischen Impulsen zum Thema Didaktik der Sprachenvielfalt (Prof. Dr. Constanze Niederhaus)Vernetzung der Impulsschulen untereinanderDie Veranstaltung bildet den Auftakt regelmäßiger, ca. halbjährlicher Veranstaltungen, die sich gezielt an die Impulsschulvertreterinnen und -vertreter der BiSS-Akademie NRW richten. Wir möchten damit die konkreten Unterrichtsentwicklungsprozesse unterstützen.Der Nachmittag beginnt mit einem gemeinsamen Mittagimbiss.
END:VEVENT
END:VCALENDAR