BEGIN:VCALENDAR
VERSION:2.0
PRODID:-//WP EVENT Manager Ical//NONSGML Events//EN
CALSCALE:GREGORIAN
BEGIN:VTIMEZONE
TZID:Asia/Kolkata
BEGIN:STANDARD
DTSTART:19700101T000000
TZOFFSETFROM:+0530
TZOFFSETTO:+0530
END:STANDARD
END:VTIMEZONE
BEGIN:VEVENT
UID:69e5e44692934@www.biss-akademie.nrw
DTSTAMP:20260420T083102Z
DTSTART;TZID=Asia/Kolkata:20220927T143000
DTEND;TZID=Asia/Kolkata:20220927T170000
LOCATION:LaSI, Ruhrallee 90, 2. Etage, Dortmund
SUMMARY:2. Netzwerktreffen RESO (Netzwerk im Aufbau)
DESCRIPTION:Nach einem kurzen Erfahrungsaustausch soll es in diesem Netzwerktreffen vor allem darum gehen, den Umgang mit dem Material aus dem RESO-Ordner zu erproben und die ressourcensparenden Möglichkeiten im Umgang mit den vielfältigen und umfänglichen Materialien (analoge sowie digitale Angebote) kennenzulernen. So sollen exemplarisch Übungsseiten angewendet als auch eine modellhafte Planung für ein Schuljahr diskutiert werden. Weiterhin soll es um die Implementierung in den Curricula bzw. im Schulprogramm gehen.
END:VEVENT
END:VCALENDAR